BEGIN:VCALENDAR
VERSION:2.0
PRODID:icalendar-ruby
CALSCALE:GREGORIAN
METHOD:PUBLISH
BEGIN:VEVENT
DTSTAMP:20260421T144848Z
UID:8-271846@odessafmc.ca
DTSTART:20261011T140000Z
DTEND:20261011T150000Z
CLASS:PUBLIC
CREATED:20260421T082813
DESCRIPTION:
LAST-MODIFIED:20260421T082813
LOCATION:
SUMMARY:Sunday Service
URL;VALUE=URI:https://odessafmc.ca/events/sunday-service/2026-10-11
ATTACH;FILENAME=16812246_643x360_2500.jpeg;FMTTYPE=image/jpeg:https://dq5pw
 pg1q8ru0.cloudfront.net/2026/03/10/17/11/09/749327cd-7928-4d38-9a36-9fc41a
 841816/16812246_643x360_2500.jpeg
END:VEVENT
END:VCALENDAR
