BEGIN:VCALENDAR
VERSION:2.0
PRODID:icalendar-ruby
CALSCALE:GREGORIAN
METHOD:PUBLISH
BEGIN:VEVENT
DTSTAMP:20260419T164050Z
UID:9-270400@odessafmc.ca
DTSTART:20261025T150000Z
DTEND:20261025T160000Z
CLASS:PUBLIC
CREATED:20260419T093133
DESCRIPTION:
LAST-MODIFIED:20260419T093133
LOCATION:
SUMMARY:Sunday Fellowship
URL;VALUE=URI:https://odessafmc.ca/events/sunday-fellowship/2026-10-25
ATTACH;FILENAME=istockphoto-1499149339-612x612.jpg;FMTTYPE=image/jpeg:https
 ://dq5pwpg1q8ru0.cloudfront.net/2026/03/10/17/11/45/969ef99d-04b2-43a8-b68
 4-c104a68eac3d/istockphoto-1499149339-612x612.jpg
END:VEVENT
END:VCALENDAR
